BEGIN:VCALENDAR
VERSION:2.0
PRODID:-//Anthony W. Robins - ECPv6.2.8.1//NONSGML v1.0//EN
CALSCALE:GREGORIAN
METHOD:PUBLISH
X-WR-CALNAME:Anthony W. Robins
X-ORIGINAL-URL:https://anthonywrobins.com
X-WR-CALDESC:Events for Anthony W. Robins
REFRESH-INTERVAL;VALUE=DURATION:PT1H
X-Robots-Tag:noindex
X-PUBLISHED-TTL:PT1H
BEGIN:VTIMEZONE
TZID:America/New_York
BEGIN:DAYLIGHT
TZOFFSETFROM:-0500
TZOFFSETTO:-0400
TZNAME:EDT
DTSTART:20180311T070000
END:DAYLIGHT
BEGIN:STANDARD
TZOFFSETFROM:-0400
TZOFFSETTO:-0500
TZNAME:EST
DTSTART:20181104T060000
END:STANDARD
END:VTIMEZONE
BEGIN:VEVENT
DTSTART;TZID=America/New_York:20180311T140000
DTEND;TZID=America/New_York:20180311T153000
DTSTAMP:20260423T170100
CREATED:20180306T164943Z
LAST-MODIFIED:20180306T164943Z
UID:4064-1520776800-1520782200@anthonywrobins.com
SUMMARY:TOUR: The Woolworth Building and its Lobby
DESCRIPTION:Reservations required – click here. \nTour of the Woolworth Building lobby\, closed to the public for more than a decade and now open again. The tour includes a detailed look at the building’s unmatched polychromatic terra-cotta exterior\, and an in-depth exploration of the lobby and its wealth of ornament\, including hidden corners and staircases — plus a special visit to the mezzanine level for an up-close view of its extraordinary mosaic ceiling. For more\, see the blog post.
URL:https://anthonywrobins.com/event/tour-the-woolworth-building-and-its-lobby-80/
LOCATION:Woolworth Building\, 233 Broadway\, New York
ORGANIZER;CN="Woolworth Tours":MAILTO:Info@WoolworthTours.com
END:VEVENT
END:VCALENDAR