BEGIN:VCALENDAR
VERSION:2.0
PRODID:-//Anthony W. Robins - ECPv6.2.8.1//NONSGML v1.0//EN
CALSCALE:GREGORIAN
METHOD:PUBLISH
X-ORIGINAL-URL:https://anthonywrobins.com
X-WR-CALDESC:Events for Anthony W. Robins
REFRESH-INTERVAL;VALUE=DURATION:PT1H
X-Robots-Tag:noindex
X-PUBLISHED-TTL:PT1H
BEGIN:VTIMEZONE
TZID:America/New_York
BEGIN:DAYLIGHT
TZOFFSETFROM:-0500
TZOFFSETTO:-0400
TZNAME:EDT
DTSTART:20180311T070000
END:DAYLIGHT
BEGIN:STANDARD
TZOFFSETFROM:-0400
TZOFFSETTO:-0500
TZNAME:EST
DTSTART:20181104T060000
END:STANDARD
END:VTIMEZONE
BEGIN:VEVENT
DTSTART;TZID=America/New_York:20180318T140000
DTEND;TZID=America/New_York:20180318T160000
DTSTAMP:20260423T164925
CREATED:20180309T040855Z
LAST-MODIFIED:20180315T185443Z
UID:4076-1521381600-1521388800@anthonywrobins.com
SUMMARY:TOUR: Art Deco Central Park West
DESCRIPTION:Reservations required. Sponsored by the Municipal Art Society. Click here for information and registration\, or call 212-935-3960. $30 ($20 for MAS members) \nBased on Itinerary No. 8 in New York Art Deco: A Guide to Gotham’s Jazz Age Architecture.  \nA pleasant stroll along Central Park West for a closer look at the buildings that form Manhattan’s major residential skyline. We’ll see the great twin-towered skyscraper apartment buildings – the Century\, the Majestic and the El Dorado – and other multi-colored jazz-age fantasies of high living overlooking the park.
URL:https://anthonywrobins.com/event/tour-art-deco-central-park-west-itinerary-no-8-3/
END:VEVENT
END:VCALENDAR