BEGIN:VCALENDAR
VERSION:2.0
PRODID:-//Anthony W. Robins - ECPv6.2.8.1//NONSGML v1.0//EN
CALSCALE:GREGORIAN
METHOD:PUBLISH
X-WR-CALNAME:Anthony W. Robins
X-ORIGINAL-URL:https://anthonywrobins.com
X-WR-CALDESC:Events for Anthony W. Robins
REFRESH-INTERVAL;VALUE=DURATION:PT1H
X-Robots-Tag:noindex
X-PUBLISHED-TTL:PT1H
BEGIN:VTIMEZONE
TZID:America/New_York
BEGIN:DAYLIGHT
TZOFFSETFROM:-0500
TZOFFSETTO:-0400
TZNAME:EDT
DTSTART:20180311T070000
END:DAYLIGHT
BEGIN:STANDARD
TZOFFSETFROM:-0400
TZOFFSETTO:-0500
TZNAME:EST
DTSTART:20181104T060000
END:STANDARD
END:VTIMEZONE
BEGIN:VEVENT
DTSTART;TZID=America/New_York:20180325T103000
DTEND;TZID=America/New_York:20180325T123000
DTSTAMP:20260423T164920
CREATED:20180315T181159Z
LAST-MODIFIED:20180315T181159Z
UID:4176-1521973800-1521981000@anthonywrobins.com
SUMMARY:TOUR: Grand Central Terminal
DESCRIPTION:Sponsored by the Scarsdale Adult School. $50.  Click here for information and registration. \nOn February 1st\, 1913\, the brand-new Grand Central Terminal opened its doors to an admiring public. On February 1st\, 2013\, the beautifully restored Terminal – rescued from destruction by a seminal 1978 Supreme Court decision – celebrated its Centennial\, accompanied by exhibitions\, events\, and the new book: Grand Central Terminal: 100 Years of a New York Landmark. The Terminal’s creation combined engineering bravado (sinking two train yards below ground)\, technological wizardry (electrifying the trains to eliminate steam and enable their underground functioning)\, and real-estate savvy (replacing the original street-level train yard with 16 blocks of newly prime Midtown Manhattan real-estate\, whose development paid for it all) with innovative planning (interior ramps and looping tracks) and Paris-inspired Beaux-Arts design. This walking tour brings the Terminal to life – its remarkable history\, stunning architecture\, and central role in creating midtown Manhattan.
URL:https://anthonywrobins.com/event/tour-grand-central-terminal/
END:VEVENT
BEGIN:VEVENT
DTSTART;TZID=America/New_York:20180325T140000
DTEND;TZID=America/New_York:20180325T153000
DTSTAMP:20260423T164920
CREATED:20180306T165615Z
LAST-MODIFIED:20180306T165615Z
UID:4066-1521986400-1521991800@anthonywrobins.com
SUMMARY:TOUR: The Woolworth Building and its Lobby
DESCRIPTION:Reservations required – click here. \nTour of the Woolworth Building lobby\, closed to the public for more than a decade and now open again. The tour includes a detailed look at the building’s unmatched polychromatic terra-cotta exterior\, and an in-depth exploration of the lobby and its wealth of ornament\, including hidden corners and staircases — plus a special visit to the mezzanine level for an up-close view of its extraordinary mosaic ceiling. For more\, see the blog post.
URL:https://anthonywrobins.com/event/tour-the-woolworth-building-and-its-lobby-81/
LOCATION:Woolworth Building\, 233 Broadway\, New York
ORGANIZER;CN="Woolworth Tours":MAILTO:Info@WoolworthTours.com
END:VEVENT
END:VCALENDAR