BEGIN:VCALENDAR
VERSION:2.0
PRODID:-//Anthony W. Robins - ECPv6.2.8.1//NONSGML v1.0//EN
CALSCALE:GREGORIAN
METHOD:PUBLISH
X-WR-CALNAME:Anthony W. Robins
X-ORIGINAL-URL:https://anthonywrobins.com
X-WR-CALDESC:Events for Anthony W. Robins
REFRESH-INTERVAL;VALUE=DURATION:PT1H
X-Robots-Tag:noindex
X-PUBLISHED-TTL:PT1H
BEGIN:VTIMEZONE
TZID:America/New_York
BEGIN:DAYLIGHT
TZOFFSETFROM:-0500
TZOFFSETTO:-0400
TZNAME:EDT
DTSTART:20180311T070000
END:DAYLIGHT
BEGIN:STANDARD
TZOFFSETFROM:-0400
TZOFFSETTO:-0500
TZNAME:EST
DTSTART:20181104T060000
END:STANDARD
END:VTIMEZONE
BEGIN:VEVENT
DTSTART;TZID=America/New_York:20180408T113000
DTEND;TZID=America/New_York:20180408T133000
DTSTAMP:20260423T151128
CREATED:20180315T183808Z
LAST-MODIFIED:20180315T184123Z
UID:4180-1523187000-1523194200@anthonywrobins.com
SUMMARY:BOOK TALK: "New York Art Deco: A Guide to Gotham's Jazz Age Architecture"
DESCRIPTION:Sponsored by the Murray Hill Neighborhood Association. For information and registration\, click here . $35 ($30 MHNA members) \nThe Chrysler Building\, the Waldorf-Astoria\, Rockefeller Center– these are among the hundreds of Art Deco monuments that during the 1920s and ‘30s helped create the image of New York City as the world’s Modern Metropolis. In New York\, Art Deco evolved through a series of Manhattan skyscrapers into the city’s chief architectural language. Following a massive reawakening of interest in them during the 1970s\, New York’s Deco buildings today survive as prized remnants of a distant yet modern past that still help define the city’s visual identity. \nThe lecture covers the great skyscrapers of architects Raymond Hood\, William Van Alen\, Ely Jacques Kahn and Ralph Walker\, including the Daily News\, Empire State\, Irving Trust\, General Electric\, American Radiator\, Barclay-Vesey and RCA Buildings. It then traces the adaptation of this “skyscraper style” through apartment buildings on the Bronx’s Grand Concourse\, airport terminals at LaGuardia\, the Central Park West residential skyline\, automated midtown parking garages\, diners\, hotels\, department stores\, banks\, and theaters. \nAfter the talk there will be a book signing for New York Art Deco: A Guide to Gotham’s Jazz Age Architecture (SUNY Press\, Excelsior Editions\, 2017)\, followed by a short walk looking at Art Deco examples in Murray Hill.
URL:https://anthonywrobins.com/event/book-talk-new-york-art-deco-a-guide-to-gothams-jazz-age-architecture-2/
ORGANIZER;CN="Murray Hill Neighborhood Association":MAILTO:info@murrayhillnyc.org
END:VEVENT
END:VCALENDAR