BEGIN:VCALENDAR
VERSION:2.0
PRODID:-//Anthony W. Robins - ECPv6.2.8.1//NONSGML v1.0//EN
CALSCALE:GREGORIAN
METHOD:PUBLISH
X-ORIGINAL-URL:https://anthonywrobins.com
X-WR-CALDESC:Events for Anthony W. Robins
REFRESH-INTERVAL;VALUE=DURATION:PT1H
X-Robots-Tag:noindex
X-PUBLISHED-TTL:PT1H
BEGIN:VTIMEZONE
TZID:America/New_York
BEGIN:DAYLIGHT
TZOFFSETFROM:-0500
TZOFFSETTO:-0400
TZNAME:EDT
DTSTART:20180311T070000
END:DAYLIGHT
BEGIN:STANDARD
TZOFFSETFROM:-0400
TZOFFSETTO:-0500
TZNAME:EST
DTSTART:20181104T060000
END:STANDARD
END:VTIMEZONE
BEGIN:VEVENT
DTSTART;TZID=America/New_York:20180608T100000
DTEND;TZID=America/New_York:20180608T120000
DTSTAMP:20260423T183405
CREATED:20180320T203817Z
LAST-MODIFIED:20180320T203817Z
UID:4443-1528452000-1528459200@anthonywrobins.com
SUMMARY:TOUR: Grand Central Terminal
DESCRIPTION:Sponsored by the New York Botanical Garden\, Members Trips. (To take this tour\, you must be a member of the Botanical Garden – click here for membership details.) Reservations required: call 1-718-817-8703\, email membership@nybg.org\, or click here (scroll down to find the tour) to register on-line. \nOn February 1st\, 1913\, the brand-new Grand Central Terminal opened its doors to an admiring public. On February 1st\, 2013\, the beautifully restored Terminal – rescued from destruction by a seminal 1978 Supreme Court decision – celebrated its Centennial\, accompanied by exhibitions\, events\, and the new book: Grand Central Terminal: 100 Years of a New York Landmark. The Terminal’s creation combined engineering bravado (sinking two train yards below ground)\, technological wizardry (electrifying the trains to eliminate steam and enable their underground functioning)\, and real-estate savvy (replacing the original street-level train yard with 16 blocks of newly prime Midtown Manhattan real-estate\, whose development paid for it all) with innovative planning (interior ramps and looping tracks) and Paris-inspired Beaux-Arts design. This walking tour brings the Terminal to life – its remarkable history\, stunning architecture\, and central role in creating midtown Manhattan.
URL:https://anthonywrobins.com/event/tour-grand-central-terminal-2/
ORGANIZER;CN="New York Botanical Garden":MAILTO:membership@nybg.org
END:VEVENT
END:VCALENDAR