BEGIN:VCALENDAR
VERSION:2.0
PRODID:-//Anthony W. Robins - ECPv6.2.8.1//NONSGML v1.0//EN
CALSCALE:GREGORIAN
METHOD:PUBLISH
X-ORIGINAL-URL:https://anthonywrobins.com
X-WR-CALDESC:Events for Anthony W. Robins
REFRESH-INTERVAL;VALUE=DURATION:PT1H
X-Robots-Tag:noindex
X-PUBLISHED-TTL:PT1H
BEGIN:VTIMEZONE
TZID:America/New_York
BEGIN:DAYLIGHT
TZOFFSETFROM:-0500
TZOFFSETTO:-0400
TZNAME:EDT
DTSTART:20190310T070000
END:DAYLIGHT
BEGIN:STANDARD
TZOFFSETFROM:-0400
TZOFFSETTO:-0500
TZNAME:EST
DTSTART:20191103T060000
END:STANDARD
BEGIN:DAYLIGHT
TZOFFSETFROM:-0500
TZOFFSETTO:-0400
TZNAME:EDT
DTSTART:20200308T070000
END:DAYLIGHT
BEGIN:STANDARD
TZOFFSETFROM:-0400
TZOFFSETTO:-0500
TZNAME:EST
DTSTART:20201101T060000
END:STANDARD
BEGIN:DAYLIGHT
TZOFFSETFROM:-0500
TZOFFSETTO:-0400
TZNAME:EDT
DTSTART:20210314T070000
END:DAYLIGHT
BEGIN:STANDARD
TZOFFSETFROM:-0400
TZOFFSETTO:-0500
TZNAME:EST
DTSTART:20211107T060000
END:STANDARD
BEGIN:DAYLIGHT
TZOFFSETFROM:-0500
TZOFFSETTO:-0400
TZNAME:EDT
DTSTART:20220313T070000
END:DAYLIGHT
BEGIN:STANDARD
TZOFFSETFROM:-0400
TZOFFSETTO:-0500
TZNAME:EST
DTSTART:20221106T060000
END:STANDARD
BEGIN:DAYLIGHT
TZOFFSETFROM:-0500
TZOFFSETTO:-0400
TZNAME:EDT
DTSTART:20230312T070000
END:DAYLIGHT
BEGIN:STANDARD
TZOFFSETFROM:-0400
TZOFFSETTO:-0500
TZNAME:EST
DTSTART:20231105T060000
END:STANDARD
BEGIN:DAYLIGHT
TZOFFSETFROM:-0500
TZOFFSETTO:-0400
TZNAME:EDT
DTSTART:20240310T070000
END:DAYLIGHT
BEGIN:STANDARD
TZOFFSETFROM:-0400
TZOFFSETTO:-0500
TZNAME:EST
DTSTART:20241103T060000
END:STANDARD
BEGIN:DAYLIGHT
TZOFFSETFROM:-0500
TZOFFSETTO:-0400
TZNAME:EDT
DTSTART:20250309T070000
END:DAYLIGHT
BEGIN:STANDARD
TZOFFSETFROM:-0400
TZOFFSETTO:-0500
TZNAME:EST
DTSTART:20251102T060000
END:STANDARD
END:VTIMEZONE
BEGIN:VEVENT
DTSTART;TZID=America/New_York:20190702T140000
DTEND;TZID=America/New_York:20190702T164000
DTSTAMP:20260423T134201
CREATED:20190205T160246Z
LAST-MODIFIED:20190419T174135Z
UID:4700-1562076000-1562085600@anthonywrobins.com
SUMMARY:Course: New York in the Jazz Age - Art Deco Architecture from Wall St to Washington Heights - 5th class
DESCRIPTION:Sponsored by New York University’s School of Professional Studies. Information and registration\, click here. \nThis course explores the brash new style of Art Deco\, which transformed New York into a modern metropolis. Through a series of five walking tours\, follow the style’s impact on the architecture of Manhattan\, from its southern tip to its northern extreme. We begin with a walk downtown through the Financial District. Next\, we look at two Midtown skyscraper clusters\, on 42nd Street from east to west and in the 50s from the First Avenue to Rockefeller Center. Then\, we walk the residential skyline along Central Park West. Finally\, we finish our Manhattan odyssey with Washington Heights at the top of the island.
URL:https://anthonywrobins.com/event/course-new-york-in-the-jazz-age-art-deco-architecture-from-wall-st-to-washington-heights-5th-class/
END:VEVENT
BEGIN:VEVENT
DTSTART;TZID=America/New_York:20190804T103000
DTEND;TZID=America/New_York:20190804T123000
DTSTAMP:20260423T134201
CREATED:20190726T202135Z
LAST-MODIFIED:20190726T215030Z
UID:4813-1564914600-1564921800@anthonywrobins.com
SUMMARY:TOUR: Art Deco on the Upper East Side (Itinerary No. 10)
DESCRIPTION:Reservations required. Sponsored by the Municipal Art Society. $30 per person ($20 for MAS members). For information and registration\, click here. \nBased on Itinerary No. 10 in New York Art Deco: A Guide to Gotham’s Jazz Age Architecture.  \nThe Upper East Side—Manhattan’s Gold Coast—maintains an aura of conservative respectability\, and perhaps as a result never attracted as much Art Deco flash as its counterpart on the west side of Central Park. Nevertheless\, tucked among the Beaux-Arts town houses and sedate neo-Georgian apartment buildings\, the neighborhood has some remarkable examples by some of the best architects\, including an apartment house by Raymond Hood (built for the owner of the Daily News); one of Manhattan’s very few Art Deco town houses; the elegant Carlyle Hotel; and apartment houses by Sloan & Robertson\, Horace Ginsberg. and George and Edward Blum—the Blums having designed some of the very first Art Deco apartment buildings anywhere in the city.
URL:https://anthonywrobins.com/event/tour-art-deco-on-the-upper-east-side-itinerary-no-10-2/
END:VEVENT
BEGIN:VEVENT
DTSTART;TZID=America/New_York:20190806T180000
DTEND;TZID=America/New_York:20190806T200000
DTSTAMP:20260423T134201
CREATED:20190726T202928Z
LAST-MODIFIED:20190726T215314Z
UID:4815-1565114400-1565121600@anthonywrobins.com
SUMMARY:TOUR: Art Deco Central Park West (Itinerary No. 8)
DESCRIPTION:Reservations required. Sponsored by Landmark West! $35 ($25 LW! members). For information and registration\, click here. \nBased on Itinerary No. 8 in New York Art Deco: A Guide to Gotham’s Jazz Age Architecture.  \nA pleasant stroll along Central Park West for a closer look at the buildings that form Manhattan’s major residential skyline. We’ll see the great twin-towered skyscraper apartment buildings – the Century\, the Majestic and the El Dorado – and other multi-colored jazz-age fantasies of high living overlooking the park.
URL:https://anthonywrobins.com/event/tour-art-deco-central-park-west-9/
ORGANIZER;CN="Landmark West!":MAILTO:landmarkwest@landmarkwest.org
END:VEVENT
BEGIN:VEVENT
DTSTART;TZID=America/New_York:20190922T140000
DTEND;TZID=America/New_York:20190922T160000
DTSTAMP:20260423T134201
CREATED:20190726T203627Z
LAST-MODIFIED:20190726T214950Z
UID:4819-1569160800-1569168000@anthonywrobins.com
SUMMARY:TOUR: Art Deco in Washington Heights (Itinerary No. 11)
DESCRIPTION:Reservations required. Sponsored by the Municipal Art Society. $30 per person ($20 for MAS members). For information and registration\, watch this space\, or call the M.A.S. at 212-935-3960. \nBased on Itinerary No. 11 in New York Art Deco: A Guide to Gotham’s Jazz Age Architecture.  \nHigh up on a hill\, its streets lined with modest but attractive six-story Art Deco apartment hoses\, Washington Heights has more in common with West Bronx neighborhoods just across the Harlem River than with the rest of Manhattan. Many of the same architects who worked on the Grand Concourse also designed apartment buildings on or near Fort Washington Avenue – we will see work by Horace Ginsbern\, Jacob Felson\, Israel Crausman\, Miller and Goldhammer\, Charles Kreymborg\, and H. Herbert Lillien. Two taller apartment buildings\, by Boak and Paris\, offer a more idiosyncratic take on the modernism of the 1930s. This walk with Anthony W. Robins will also include a one-story taxpayer\, and one of the city’s few frankly Deco subway entrances. But the star attraction is the Fourth Church of Christ\, Scientist (now the Hebrew Tabernacle of Washington Heights)\, one of perhaps a dozen or so Art Deco houses of worship anywhere in the city. \n  \n 
URL:https://anthonywrobins.com/event/tour-art-deco-in-washington-heights-itinerary-no-11-2/
END:VEVENT
BEGIN:VEVENT
DTSTART;TZID=America/New_York:20190926T110000
DTEND;TZID=America/New_York:20190926T130000
DTSTAMP:20260423T134201
CREATED:20190726T213114Z
LAST-MODIFIED:20190726T213114Z
UID:4831-1569495600-1569502800@anthonywrobins.com
SUMMARY:TOUR: Wall Street Canyons\, Walking the Byways of the First New York
DESCRIPTION:Reservations required. Sponsored by the Scarsdale Adult School.  Click here to register on-line. \nFrom the spectacular skyline to the underground archeological relics\, downtown Manhattan is one of the world’s great urban treasures. Its reputation was tarnished in the ’80s as a symbol of greed and corruption\, in the ’90s with the stock market crash and empty skyscrapers\, and again in the ’00s in the wake of 9/11\, but the area is making a strong come-back. The tour covers colonial-era relics and narrow Dutch streets\, private banks and public squares\, nineteenth-century church steeples\, and twentieth-century skyscraper towers. Admire public art from Daniel Chester French’s “Four Continents” at the old Custom House to Arturo di Modica’s giant bull (to cheer up the stockbrokers after the ‘87 crash) at Bowling Green. Take in the waterfront scenery from Castle Clinton in Battery Park to Steamship Row on lower Broadway. Stroll past famous institutions like Delmonico’s Steak House\, the first American restaurant to popularize “continental cuisine\,” whose last (and very handsome) surviving building stands on William Street.
URL:https://anthonywrobins.com/event/tour-wall-street-canyons-walking-the-byways-of-the-first-new-york/
END:VEVENT
BEGIN:VEVENT
DTSTART;TZID=America/New_York:20191003T140000
DTEND;TZID=America/New_York:20191003T164000
DTSTAMP:20260423T134201
CREATED:20190726T214034Z
LAST-MODIFIED:20190726T214146Z
UID:4834-1570111200-1570120800@anthonywrobins.com
SUMMARY:NYU – Five-session course – New York in the Jazz Age: Art Deco architecture from TriBeCa to the Upper West Side – Session No. 1
DESCRIPTION:Sponsored by New York University’s School of Continuing and Professional Education. Tuesday afternoons\, September 19 to October 17. For information and registration\, click here. \nThis course traces the brash new style of art deco\, which transformed New York into a modern metropolis. Follow the style’s impact on five Manhattan neighborhoods\, mixing commercial with residential buildings. One walk covers the downtown neighborhoods of Tribeca and the Civic Center. Two more cover south Midtown: Murray Hill and Gramercy Park on the east and the Garment District on the west. A fourth looks at the upper edge of Midtown\, from Bloomingdale’s on the east to 20th Century Fox on the west. And a fifth follows the transformation of residential architecture on the Upper West Side along Broadway and Riverside Drive. The course instructor is Anthony W. Robins\, award-winning guide and author of the newly published book\, New York Art Deco: A Guide to Gotham’s Jazz-Age Architecture(SUNY Press).
URL:https://anthonywrobins.com/event/nyu-five-session-course-new-york-in-the-jazz-age-art-deco-architecture-from-tribeca-to-the-upper-west-side-session-no-1/
END:VEVENT
BEGIN:VEVENT
DTSTART;TZID=America/New_York:20191010T140000
DTEND;TZID=America/New_York:20191010T164000
DTSTAMP:20260423T134201
CREATED:20190726T214323Z
LAST-MODIFIED:20190726T214323Z
UID:4836-1570716000-1570725600@anthonywrobins.com
SUMMARY:NYU – Five-session course – New York in the Jazz Age: Art Deco architecture from TriBeCa to the Upper West Side – Session No. 2
DESCRIPTION:Sponsored by New York University’s School of Continuing and Professional Education. Tuesday afternoons\, September 19 to October 17. For information and registration\, click here. \nThis course traces the brash new style of art deco\, which transformed New York into a modern metropolis. Follow the style’s impact on five Manhattan neighborhoods\, mixing commercial with residential buildings. One walk covers the downtown neighborhoods of Tribeca and the Civic Center. Two more cover south Midtown: Murray Hill and Gramercy Park on the east and the Garment District on the west. A fourth looks at the upper edge of Midtown\, from Bloomingdale’s on the east to 20th Century Fox on the west. And a fifth follows the transformation of residential architecture on the Upper West Side along Broadway and Riverside Drive. The course instructor is Anthony W. Robins\, award-winning guide and author of the newly published book\, New York Art Deco: A Guide to Gotham’s Jazz-Age Architecture(SUNY Press).
URL:https://anthonywrobins.com/event/nyu-five-session-course-new-york-in-the-jazz-age-art-deco-architecture-from-tribeca-to-the-upper-west-side-session-no-2-2/
END:VEVENT
BEGIN:VEVENT
DTSTART;TZID=America/New_York:20191017T140000
DTEND;TZID=America/New_York:20191017T164000
DTSTAMP:20260423T134201
CREATED:20190726T214526Z
LAST-MODIFIED:20190726T214526Z
UID:4838-1571320800-1571330400@anthonywrobins.com
SUMMARY:NYU – Five-session course – New York in the Jazz Age: Art Deco architecture from TriBeCa to the Upper West Side – Session No. 3
DESCRIPTION:Sponsored by New York University’s School of Continuing and Professional Education. Tuesday afternoons\, September 19 to October 17. For information and registration\, click here. \nThis course traces the brash new style of art deco\, which transformed New York into a modern metropolis. Follow the style’s impact on five Manhattan neighborhoods\, mixing commercial with residential buildings. One walk covers the downtown neighborhoods of Tribeca and the Civic Center. Two more cover south Midtown: Murray Hill and Gramercy Park on the east and the Garment District on the west. A fourth looks at the upper edge of Midtown\, from Bloomingdale’s on the east to 20th Century Fox on the west. And a fifth follows the transformation of residential architecture on the Upper West Side along Broadway and Riverside Drive. The course instructor is Anthony W. Robins\, award-winning guide and author of the newly published book\, New York Art Deco: A Guide to Gotham’s Jazz-Age Architecture(SUNY Press).
URL:https://anthonywrobins.com/event/nyu-five-session-course-new-york-in-the-jazz-age-art-deco-architecture-from-tribeca-to-the-upper-west-side-session-no-3/
END:VEVENT
BEGIN:VEVENT
DTSTART;TZID=America/New_York:20191024T140000
DTEND;TZID=America/New_York:20191024T164000
DTSTAMP:20260423T134201
CREATED:20190726T214720Z
LAST-MODIFIED:20190726T214720Z
UID:4840-1571925600-1571935200@anthonywrobins.com
SUMMARY:NYU – Five-session course – New York in the Jazz Age: Art Deco architecture from TriBeCa to the Upper West Side – Session No. 4
DESCRIPTION:Sponsored by New York University’s School of Continuing and Professional Education. Tuesday afternoons\, September 19 to October 17. For information and registration\, click here. \nThis course traces the brash new style of art deco\, which transformed New York into a modern metropolis. Follow the style’s impact on five Manhattan neighborhoods\, mixing commercial with residential buildings. One walk covers the downtown neighborhoods of Tribeca and the Civic Center. Two more cover south Midtown: Murray Hill and Gramercy Park on the east and the Garment District on the west. A fourth looks at the upper edge of Midtown\, from Bloomingdale’s on the east to 20th Century Fox on the west. And a fifth follows the transformation of residential architecture on the Upper West Side along Broadway and Riverside Drive. The course instructor is Anthony W. Robins\, award-winning guide and author of the newly published book\, New York Art Deco: A Guide to Gotham’s Jazz-Age Architecture(SUNY Press).
URL:https://anthonywrobins.com/event/nyu-five-session-course-new-york-in-the-jazz-age-art-deco-architecture-from-tribeca-to-the-upper-west-side-session-no-4-2/
END:VEVENT
BEGIN:VEVENT
DTSTART;TZID=America/New_York:20191027T140000
DTEND;TZID=America/New_York:20191027T160000
DTSTAMP:20260423T134201
CREATED:20190726T204457Z
LAST-MODIFIED:20190726T215405Z
UID:4821-1572184800-1572192000@anthonywrobins.com
SUMMARY:TOUR: Art Deco tour - TriBeCa and Civic Center (Itinerary No. 2)
DESCRIPTION:Reservations required. Sponsored by the Municipal Art Society. $30 per person ($20 for MAS members). For information and registration\, watch this space\, or call the M.A.S. at 212-935-3960. \nBased on Itinerary No. 2 in New York Art Deco: A Guide to Gotham’s Jazz Age Architecture.  \nThis tour begins at the edge of the financial district and continues into the Civic Center with the Federal Post Office\, a WPA product of the Modern Classic; and three remarkable municipal buildings at the northern tip of the Foley Square courts district: the New York State Building\, the Health\, Hospitals and Sanitation Building and the Manhattan Criminal Courthouse. Star architect of the walk is Ralph Walker\, designer of three communications-related behemoths: the delightfully decorative New York Telephone Company headquarters\, the ponderously massive Western Union Building\, and the Long Lines Building which is both massive and decorative.
URL:https://anthonywrobins.com/event/tour-art-deco-tour-tribeca-and-civic-center/
END:VEVENT
BEGIN:VEVENT
DTSTART;TZID=America/New_York:20191031T140000
DTEND;TZID=America/New_York:20191031T164000
DTSTAMP:20260423T134201
CREATED:20190726T214829Z
LAST-MODIFIED:20190726T214829Z
UID:4842-1572530400-1572540000@anthonywrobins.com
SUMMARY:NYU – Five-session course – New York in the Jazz Age: Art Deco architecture from TriBeCa to the Upper West Side – Session No. 5
DESCRIPTION:Sponsored by New York University’s School of Continuing and Professional Education. Tuesday afternoons\, September 19 to October 17. For information and registration\, click here. \nThis course traces the brash new style of art deco\, which transformed New York into a modern metropolis. Follow the style’s impact on five Manhattan neighborhoods\, mixing commercial with residential buildings. One walk covers the downtown neighborhoods of Tribeca and the Civic Center. Two more cover south Midtown: Murray Hill and Gramercy Park on the east and the Garment District on the west. A fourth looks at the upper edge of Midtown\, from Bloomingdale’s on the east to 20th Century Fox on the west. And a fifth follows the transformation of residential architecture on the Upper West Side along Broadway and Riverside Drive. The course instructor is Anthony W. Robins\, award-winning guide and author of the newly published book\, New York Art Deco: A Guide to Gotham’s Jazz-Age Architecture(SUNY Press).
URL:https://anthonywrobins.com/event/nyu-five-session-course-new-york-in-the-jazz-age-art-deco-architecture-from-tribeca-to-the-upper-west-side-session-no-5-2/
END:VEVENT
BEGIN:VEVENT
DTSTART;TZID=America/New_York:20200112T140000
DTEND;TZID=America/New_York:20200112T160000
DTSTAMP:20260423T134201
CREATED:20171214T192216Z
LAST-MODIFIED:20200109T152657Z
UID:3623-1578837600-1578844800@anthonywrobins.com
SUMMARY:Tour: Manhattan's Art Deco Interiors
DESCRIPTION:Sponsored by the Municipal Art Society. $30 ($20 MAS members). Reservations required. To register\, call 212-935-3960 or register on-line. \nThe phrase “Art Deco New York” generally conjures romantic images of Manhattan skyscrapers. But just as remarkable as the towers are their sumptuous interiors – which are also far more comfortable to visit on a cold winter’s day. On this tour\, we’ll visit the publicly accessible interiors of not major Deco marvels: the Daily News Building\, the Chrysler Building\, and the International Building and RCA (now Comcast) tower at Rockefeller Center.
URL:https://anthonywrobins.com/event/3623/
END:VEVENT
BEGIN:VEVENT
DTSTART;TZID=America/New_York:20200216T140000
DTEND;TZID=America/New_York:20200216T140000
DTSTAMP:20260423T134201
CREATED:20190120T175030Z
LAST-MODIFIED:20200101T172344Z
UID:4629-1581861600-1581861600@anthonywrobins.com
SUMMARY:Tour: Manhattan's Art Deco Interiors
DESCRIPTION:Sponsored by the Municipal Art Society. $30 ($20 MAS members). Reservations required. To register\, call 212-935-3960 or register on-line. \nThe phrase “Art Deco New York” generally conjures romantic images of Manhattan skyscrapers. But just as remarkable as the towers are their sumptuous interiors – which are also far more comfortable to visit on a cold winter’s day. On this tour\, we’ll visit the publicly accessible interiors of major Deco marvels: the Daily News Building\, the Chrysler Building\, and the International Building and RCA (now Comcast) tower at Rockefeller Center.
URL:https://anthonywrobins.com/event/tour-manhattans-art-deco-interiors-6/
END:VEVENT
BEGIN:VEVENT
DTSTART;TZID=America/New_York:20250330T110000
DTEND;TZID=America/New_York:20250330T130000
DTSTAMP:20260423T134201
CREATED:20250320T195447Z
LAST-MODIFIED:20250320T205216Z
UID:5148-1743332400-1743339600@anthonywrobins.com
SUMMARY:Tour: Art Deco East 42nd Street
DESCRIPTION:Sponsored by the Municipal Art Society. Reservations required; click here for information and registration. ($35\, $25 for MAS members). \nThis tour focuses on three of the finest Deco monuments in Midtown: the Daily News Building by Raymond Hood (1929)\, the Chanin Building by Sloane & Robertson (1927)\, and the Chrysler Building by William Van Alen (1930). Also included: the former American Radiator Building (Hood’s first in New York)\, the artsy East 44th Street cluster of the Beaux-Arts Institute and Beaux-Arts Apartments (Art Deco in style despite the names)\, and a look at nearby Tudor City\, a classic example of what the city was building just before Art Deco hit town.
URL:https://anthonywrobins.com/event/tour-art-deco-east-42nd-street/
END:VEVENT
BEGIN:VEVENT
DTSTART;TZID=America/New_York:20250406T140000
DTEND;TZID=America/New_York:20250406T163000
DTSTAMP:20260423T134201
CREATED:20250320T201013Z
LAST-MODIFIED:20250320T205439Z
UID:5151-1743948000-1743957000@anthonywrobins.com
SUMMARY:Tour: Art Deco Central Park West
DESCRIPTION:Reservations required. Sponsored by the Art Deco Society of New York $45 ($35 ADSNY members). For information and registration\, click here. \nA pleasant stroll along Central Park West for a closer look at the buildings that form Manhattan’s major residential skyline. We’ll see the great twin-towered skyscraper apartment buildings – the Century\, the Majestic and the El Dorado – and other multi-colored jazz-age fantasies of high living overlooking the park.
URL:https://anthonywrobins.com/event/tour-art-deco-central-park-west-10/
END:VEVENT
BEGIN:VEVENT
DTSTART;TZID=America/New_York:20250427T110000
DTEND;TZID=America/New_York:20250427T130000
DTSTAMP:20260423T134201
CREATED:20250320T204344Z
LAST-MODIFIED:20250320T205333Z
UID:5155-1745751600-1745758800@anthonywrobins.com
SUMMARY:Tour: Art Deco in the Fabulous Fifties
DESCRIPTION:Sponsored by the Municipal Art Society. Reservations required; click here for information and registration. ($35\, $25 for MAS members). \nStarting on the far east side of Midtown at posh Beekman Place\, we visit a handful of modernistic residences ranging from the former Panhellenic Tower\, a redoubt for young professional women taking on the big city in the 1920s\, to the fabulously wealthy River House to the more modestly middle-class Southgate apartments. Pushing westward into the commercial heart of Midtown we visit the spectacular but lesser-known General Electric Building (originally built for RCA) and continue with the Waldorf-Astoria\, New York’s preeminent skyscraper hotel. We close with a brief look at Rockefeller Center\, midtown Manhattan’s urbane urban wonderland.
URL:https://anthonywrobins.com/event/tour-art-deco-in-the-fabulous-fifties-3/
END:VEVENT
BEGIN:VEVENT
DTSTART;TZID=America/New_York:20251102T110000
DTEND;TZID=America/New_York:20251102T130000
DTSTAMP:20260423T134201
CREATED:20251028T193656Z
LAST-MODIFIED:20251028T194244Z
UID:5175-1762081200-1762088400@anthonywrobins.com
SUMMARY:Tour: Art Deco in Washington Heights
DESCRIPTION:Sponsored by the Municipal Art Society. Reservations required. Reservations required; click here for information and registration. ($35\, $25 for MAS members). \nHigh up on a hill\, its streets lined with modest but attractive six-story Art Deco apartment hoses\, Washington Heights has more in common with West Bronx neighborhoods just across the Harlem River than with the rest of Manhattan. Many of the same architects who worked on the Grand Concourse also designed apartment buildings on or near Fort Washington Avenue – we will see work by Horace Ginsbern\, Jacob Felson\, Israel Crausman\, Miller and Goldhammer\, Charles Kreymborg\, and H. Herbert Lillien. Two taller apartment buildings\, by Boak and Paris\, offer a more idiosyncratic take on the modernism of the 1930s. This walk with Anthony W. Robins will also include a one-story taxpayer\, and one of the city’s few frankly Deco subway entrances. But the star attraction is the Fourth Church of Christ\, Scientist (now the Hebrew Tabernacle of Washington Heights)\, one of perhaps a dozen or so Art Deco houses of worship anywhere in the city.
URL:https://anthonywrobins.com/event/tour-art-deco-in-washington-heights-2/
END:VEVENT
BEGIN:VEVENT
DTSTART;TZID=America/New_York:20251130T110000
DTEND;TZID=America/New_York:20251130T130000
DTSTAMP:20260423T134201
CREATED:20251028T192345Z
LAST-MODIFIED:20251028T192345Z
UID:5173-1764500400-1764507600@anthonywrobins.com
SUMMARY:Tour: Art Deco East 42nd Street
DESCRIPTION:Sponsored by the Municipal Art Society. Reservations required; click here for information and registration. ($35\, $25 for MAS members). \nThis tour focuses on three of the finest Deco monuments in Midtown: the Daily News Building by Raymond Hood (1929)\, the Chanin Building by Sloane & Robertson (1927)\, and the Chrysler Building by William Van Alen (1930). Also included: the former American Radiator Building (Hood’s first in New York)\, the artsy East 44th Street cluster of the Beaux-Arts Institute and Beaux-Arts Apartments (Art Deco in style despite the names)\, and a look at nearby Tudor City\, a classic example of what the city was building just before Art Deco hit town.
URL:https://anthonywrobins.com/event/tour-art-deco-east-42nd-street-2/
END:VEVENT
BEGIN:VEVENT
DTSTART;TZID=America/New_York:20251225T100000
DTEND;TZID=America/New_York:20251225T120000
DTSTAMP:20260423T134201
CREATED:20251029T135412Z
LAST-MODIFIED:20251029T135947Z
UID:5181-1766656800-1766664000@anthonywrobins.com
SUMMARY:Tour: Rockefeller Center
DESCRIPTION:Sponsored by the Municipal Art Society. Reservations required; click here for information and registration. ($35\, $25 for MAS members). \nAnnual Christmas morning tour of Rockefeller Center\, the private real-estate venture that has evolved into the public square of midtown Manhattan\, and an urban wonderland during the holiday season. Discover the surprising history\, remarkable art and stunning architecture of the development conceived as a new home for the Metropolitan Opera\, but built instead as Radio City.
URL:https://anthonywrobins.com/event/tour-rockefeller-center-6/
END:VEVENT
END:VCALENDAR