BEGIN:VCALENDAR
VERSION:2.0
PRODID:-//Anthony W. Robins - ECPv6.2.8.1//NONSGML v1.0//EN
CALSCALE:GREGORIAN
METHOD:PUBLISH
X-WR-CALNAME:Anthony W. Robins
X-ORIGINAL-URL:https://anthonywrobins.com
X-WR-CALDESC:Events for Anthony W. Robins
REFRESH-INTERVAL;VALUE=DURATION:PT1H
X-Robots-Tag:noindex
X-PUBLISHED-TTL:PT1H
BEGIN:VTIMEZONE
TZID:America/New_York
BEGIN:DAYLIGHT
TZOFFSETFROM:-0500
TZOFFSETTO:-0400
TZNAME:EDT
DTSTART:20180311T070000
END:DAYLIGHT
BEGIN:STANDARD
TZOFFSETFROM:-0400
TZOFFSETTO:-0500
TZNAME:EST
DTSTART:20181104T060000
END:STANDARD
END:VTIMEZONE
BEGIN:VEVENT
DTSTART;TZID=America/New_York:20180206T183000
DTEND;TZID=America/New_York:20180206T200000
DTSTAMP:20260423T164912
CREATED:20171214T200640Z
LAST-MODIFIED:20180219T193909Z
UID:3639-1517941800-1517947200@anthonywrobins.com
SUMMARY:Course: MASter Class - Researching the History of Buildings in New York City - Session No. 1
DESCRIPTION:Reservations required – click here. $375 ($300 MAS or New York Landmarks Conservancy members or students) \nLearn how to unearth detailed information about New York City buildings in four Tuesday evening lectures in February (6\, 13\, 20\, 27) at 6:30 p.m.\, plus one weekday morning field trip. The four evening sessions include: The Building:  an introduction to the records of the Department of Buildings. The Client: weaving your way through deeds\, directories\, obituaries\, Who’s Who\, and local histories. The Architect: using standard texts\, guidebooks\, periodicals\, the Avery Index\, and Committee for the Preservation of Architectural Records publications. Miscellaneous Sources: using photograph collections\, maps\, New York City archives\, libraries and historical societies\, and early 19th century tax assessment records. Field Trip: Manhattan Department of Buildings\, New York City Conveyance Records\, the Municipal Archives and the Municipal Reference Library. \nThis annual seminar has been running for 30 years. Participants have included architects\, engineers\, building owners\, preservation advocates\, lawyers and landmarks commissioners and even a New York City detective. \nSponsored by the Municipal Art Society. Click here for more details\, or call 1-212-935-3960.
URL:https://anthonywrobins.com/event/course-master-class-researching-the-history-of-buildings-in-new-york-city-session-no-1/
LOCATION:Municipal Art Society\, 488 Madison Avenue\, New York\, NY\, 10022
END:VEVENT
BEGIN:VEVENT
DTSTART;TZID=America/New_York:20180213T183000
DTEND;TZID=America/New_York:20180213T200000
DTSTAMP:20260423T164912
CREATED:20171214T201213Z
LAST-MODIFIED:20171214T201213Z
UID:3641-1518546600-1518552000@anthonywrobins.com
SUMMARY:Course: MASter Class - Researching the History of Buildings in New York City - Session No. 2
DESCRIPTION:Reservations required – click here. $375 ($300 MAS or New York Landmarks Conservancy members or students) \nLearn how to unearth detailed information about New York City buildings in four Tuesday evening lectures in February (6\, 13\, 20\, 27) at 6:30 p.m.\, plus one weekday morning field trip. The four evening sessions include: The Building:  an introduction to the records of the Department of Buildings. The Client: weaving your way through deeds\, directories\, obituaries\, Who’s Who\, and local histories. The Architect: using standard texts\, guidebooks\, periodicals\, the Avery Index\, and Committee for the Preservation of Architectural Records publications. Miscellaneous Sources: using photograph collections\, maps\, New York City archives\, libraries and historical societies\, and early 19th century tax assessment records. Field Trip: Manhattan Department of Buildings\, New York City Conveyance Records\, the Municipal Archives and the Municipal Reference Library. \nThis annual seminar has been running for 30 years. Participants have included architects\, engineers\, building owners\, preservation advocates\, lawyers and landmarks commissioners and even a New York City detective. \nSponsored by the Municipal Art Society. Click here for more details\, or call 1-212-935-3960.
URL:https://anthonywrobins.com/event/course-master-class-researching-the-history-of-buildings-in-new-york-city-session-no-2/
LOCATION:Municipal Art Society\, 488 Madison Avenue\, New York\, NY\, 10022
END:VEVENT
BEGIN:VEVENT
DTSTART;TZID=America/New_York:20180218T140000
DTEND;TZID=America/New_York:20180218T153000
DTSTAMP:20260423T164912
CREATED:20171214T194441Z
LAST-MODIFIED:20171214T194441Z
UID:3630-1518962400-1518967800@anthonywrobins.com
SUMMARY:TOUR: The Woolworth Building and its Lobby
DESCRIPTION:Reservations required – click here. \nTour of the Woolworth Building lobby\, closed to the public for more than a decade and now open again. The tour includes a detailed look at the building’s unmatched polychromatic terra-cotta exterior\, and an in-depth exploration of the lobby and its wealth of ornament\, including hidden corners and staircases — plus a special visit to the mezzanine level for an up-close view of its extraordinary mosaic ceiling. For more\, see the blog post.
URL:https://anthonywrobins.com/event/tour-the-woolworth-building-and-its-lobby-78/
LOCATION:Woolworth Building\, 233 Broadway\, New York
ORGANIZER;CN="Woolworth Tours":MAILTO:Info@WoolworthTours.com
END:VEVENT
BEGIN:VEVENT
DTSTART;TZID=America/New_York:20180220T183000
DTEND;TZID=America/New_York:20180220T200000
DTSTAMP:20260423T164912
CREATED:20171215T175811Z
LAST-MODIFIED:20180219T230224Z
UID:3643-1519151400-1519156800@anthonywrobins.com
SUMMARY:Course: MASter Class - Researching the History of Buildings in New York City - Session No. 3
DESCRIPTION:Reservations required – click here. $375 ($300 MAS or New York Landmarks Conservancy members or students) \nLearn how to unearth detailed information about New York City buildings in four Tuesday evening lectures in February (6\, 13\, 20\, 27) at 6:30 p.m.\, plus one weekday morning field trip. The four evening sessions include: The Building:  an introduction to the records of the Department of Buildings. The Client: weaving your way through deeds\, directories\, obituaries\, Who’s Who\, and local histories. The Architect: using standard texts\, guidebooks\, periodicals\, the Avery Index\, and Committee for the Preservation of Architectural Records publications. Miscellaneous Sources: using photograph collections\, maps\, New York City archives\, libraries and historical societies\, and early 19th century tax assessment records. Field Trip: Manhattan Department of Buildings\, New York City Conveyance Records\, the Municipal Archives and the Municipal Reference Library. \nThis annual seminar has been running for 30 years. Participants have included architects\, engineers\, building owners\, preservation advocates\, lawyers and landmarks commissioners and even a New York City detective. \nSponsored by the Municipal Art Society. Click here for more details\, or call 1-212-935-3960.
URL:https://anthonywrobins.com/event/course-master-class-researching-the-history-of-buildings-in-new-york-city-session-no-3/
LOCATION:Municipal Art Society\, 488 Madison Avenue\, New York\, NY\, 10022
END:VEVENT
BEGIN:VEVENT
DTSTART;TZID=America/New_York:20180225T140000
DTEND;TZID=America/New_York:20180225T153000
DTSTAMP:20260423T164912
CREATED:20171214T194816Z
LAST-MODIFIED:20171214T194816Z
UID:3637-1519567200-1519572600@anthonywrobins.com
SUMMARY:TOUR: The Woolworth Building and its Lobby
DESCRIPTION:Reservations required – click here. \nTour of the Woolworth Building lobby\, closed to the public for more than a decade and now open again. The tour includes a detailed look at the building’s unmatched polychromatic terra-cotta exterior\, and an in-depth exploration of the lobby and its wealth of ornament\, including hidden corners and staircases — plus a special visit to the mezzanine level for an up-close view of its extraordinary mosaic ceiling. For more\, see the blog post.
URL:https://anthonywrobins.com/event/tour-the-woolworth-building-and-its-lobby-79/
LOCATION:Woolworth Building\, 233 Broadway\, New York
ORGANIZER;CN="Woolworth Tours":MAILTO:Info@WoolworthTours.com
END:VEVENT
BEGIN:VEVENT
DTSTART;TZID=America/New_York:20180227T183000
DTEND;TZID=America/New_York:20180227T200000
DTSTAMP:20260423T164912
CREATED:20171215T180120Z
LAST-MODIFIED:20171215T180120Z
UID:3645-1519756200-1519761600@anthonywrobins.com
SUMMARY:Course: MASter Class - Researching the History of Buildings in New York City - Session No. 4
DESCRIPTION:Reservations required – click here. $375 ($300 MAS or New York Landmarks Conservancy members or students) \nLearn how to unearth detailed information about New York City buildings in four Tuesday evening lectures in February (6\, 13\, 20\, 27) at 6:30 p.m.\, plus one weekday morning field trip. The four evening sessions include: The Building:  an introduction to the records of the Department of Buildings. The Client: weaving your way through deeds\, directories\, obituaries\, Who’s Who\, and local histories. The Architect: using standard texts\, guidebooks\, periodicals\, the Avery Index\, and Committee for the Preservation of Architectural Records publications. Miscellaneous Sources: using photograph collections\, maps\, New York City archives\, libraries and historical societies\, and early 19th century tax assessment records. Field Trip: Manhattan Department of Buildings\, New York City Conveyance Records\, the Municipal Archives and the Municipal Reference Library. \nThis annual seminar has been running for 30 years. Participants have included architects\, engineers\, building owners\, preservation advocates\, lawyers and landmarks commissioners and even a New York City detective. \nSponsored by the Municipal Art Society. Click here for more details\, or call 1-212-935-3960.
URL:https://anthonywrobins.com/event/course-master-class-researching-the-history-of-buildings-in-new-york-city-session-no-4/
LOCATION:Municipal Art Society\, 488 Madison Avenue\, New York\, NY\, 10022
END:VEVENT
END:VCALENDAR