BEGIN:VCALENDAR
VERSION:2.0
PRODID:-//Anthony W. Robins - ECPv6.2.8.1//NONSGML v1.0//EN
CALSCALE:GREGORIAN
METHOD:PUBLISH
X-WR-CALNAME:Anthony W. Robins
X-ORIGINAL-URL:https://anthonywrobins.com
X-WR-CALDESC:Events for Anthony W. Robins
REFRESH-INTERVAL;VALUE=DURATION:PT1H
X-Robots-Tag:noindex
X-PUBLISHED-TTL:PT1H
BEGIN:VTIMEZONE
TZID:America/New_York
BEGIN:DAYLIGHT
TZOFFSETFROM:-0500
TZOFFSETTO:-0400
TZNAME:EDT
DTSTART:20180311T070000
END:DAYLIGHT
BEGIN:STANDARD
TZOFFSETFROM:-0400
TZOFFSETTO:-0500
TZNAME:EST
DTSTART:20181104T060000
END:STANDARD
END:VTIMEZONE
BEGIN:VEVENT
DTSTART;TZID=America/New_York:20180502T191500
DTEND;TZID=America/New_York:20180502T203000
DTSTAMP:20260423T151133
CREATED:20180320T172251Z
LAST-MODIFIED:20180320T172251Z
UID:4427-1525288500-1525293000@anthonywrobins.com
SUMMARY:BOOK TALK: "New York Art Deco: A Guide to Gotham's Jazz Age Architecture"
DESCRIPTION:Sponsored by the Scarsdale Adult School. Information and registration\, click here. \nThe Chrysler Building\, the Waldorf-Astoria\, Rockefeller Center– these are among the hundreds of Art Deco monuments that during the 1920s and ‘30s helped create the image of New York City as the world’s Modern Metropolis. In New York\, Art Deco evolved through a series of Manhattan skyscrapers into the city’s chief architectural language. Following a massive reawakening of interest in them during the 1970s\, New York’s Deco buildings today survive as prized remnants of a distant yet modern past that still help define the city’s visual identity. \nThe lecture covers the great skyscrapers of architects Raymond Hood\, William Van Alen\, Ely Jacques Kahn and Ralph Walker\, including the Daily News\, Empire State\, Irving Trust\, General Electric\, American Radiator\, Barclay-Vesey and RCA Buildings. It then traces the adaptation of this “skyscraper style” through apartment buildings on the Bronx’s Grand Concourse\, airport terminals at LaGuardia\, the Central Park West residential skyline\, automated midtown parking garages\, diners\, hotels\, department stores\, banks\, and theaters. \nAfter the talk there will be a book signing for New York Art Deco: A Guide to Gotham’s Jazz Age Architecture (SUNY Press\, Excelsior Editions\, 2017).
URL:https://anthonywrobins.com/event/book-talk-new-york-art-deco-a-guide-to-gothams-jazz-age-architecture-3/
LOCATION:Scarsdale High School\, 2 Brewster Road\, Scarsdale\, NY\, 10583\, United States
END:VEVENT
BEGIN:VEVENT
DTSTART;TZID=America/New_York:20180503T100000
DTEND;TZID=America/New_York:20180503T120000
DTSTAMP:20260423T151133
CREATED:20180320T175542Z
LAST-MODIFIED:20180320T175655Z
UID:4432-1525341600-1525348800@anthonywrobins.com
SUMMARY:TOUR: Central Park as a Work of Art
DESCRIPTION:Sponsored by the New York Botanical Garden\, Members Trips. (To take this tour\, you must be a member of the Botanical Garden – click here for membership details.) Reservations required: call 1-718-817-8703\, email membership@nybg.org\, or click here (scroll down to find the tour) to register on-line. \nPerhaps best-known of New York’s official “Scenic Landmarks\,” Central Park offers New Yorkers refuge\, recreation and rejuvenation; a temporary haven from a city of brick and steel\, concrete and glass. And yet this park which delights us with its lakes and streams\, wildflowers and grand open spaces\, is almost entirely artificial\, carefully designed right down to the hidden pipes feeding a rustic waterfall.
URL:https://anthonywrobins.com/event/tour-central-park-as-a-work-of-art-3/
ORGANIZER;CN="New York Botanical Garden":MAILTO:membership@nybg.org
END:VEVENT
BEGIN:VEVENT
DTSTART;TZID=America/New_York:20180506T150000
DTEND;TZID=America/New_York:20180506T160000
DTSTAMP:20260423T151133
CREATED:20180320T195443Z
LAST-MODIFIED:20180325T031625Z
UID:4436-1525618800-1525622400@anthonywrobins.com
SUMMARY:TOUR: Hebrew Tabernacle of Washington Heights
DESCRIPTION:Free and open to the public. \nAs part of the “Sacred Sites Open House Weekend” (May 5-6\, 2018) sponsored by the New York Landmarks Conservancy\, the remarkably intact Art Deco designed Hebrew Tabernacle of Washington Heights (originally the Fourth Church of Christ Scientist) will be open to the public\, from 3:00 to 4:00 p.m. For more about the building\, see the National Register nomination which I researched and wrote a few years ago. More information about the event will be available closer to the date – watch this space.
URL:https://anthonywrobins.com/event/tour-and-talk-hebrew-tabernacle-of-washington-heights/
LOCATION:Hebrew Tabernacle of Washington Heights\, 551 Fort Washington Avenue\, New York\, NY\, 10033\, United States
END:VEVENT
BEGIN:VEVENT
DTSTART;TZID=America/New_York:20180513T140000
DTEND;TZID=America/New_York:20180513T160000
DTSTAMP:20260423T151133
CREATED:20180315T175511Z
LAST-MODIFIED:20180315T175622Z
UID:4171-1526220000-1526227200@anthonywrobins.com
SUMMARY:TOUR: Downtown Art Deco
DESCRIPTION:Reservations required. Sponsored by the Municipal Art Society. $30 ($20 for MAS members). Information and registration: 212-935-3960 – WATCH THIS SPACE FOR A RESERVATION LINK \nTowering above the narrow streets of the old Dutch colony of Nieuw Amsterdam are some of the country’s finest zigzag and streamlined delights\, glittering pinnacles of Wall Street prosperity\, monuments to the high-flying corporations of 1920s banking\, oil\, and telecommunications. Unrivaled skyscraper designs include Ralph Walker’s Gothic Modern fantasy of the Irving Trust tower and the Art Deco–encrusted Cities Service headquarters\, plus some lesser-known jewels in the insurance district on John Street.
URL:https://anthonywrobins.com/event/tour-downtown-art-deco/
END:VEVENT
BEGIN:VEVENT
DTSTART;TZID=America/New_York:20180517T103000
DTEND;TZID=America/New_York:20180517T130000
DTSTAMP:20260423T151133
CREATED:20180320T201143Z
LAST-MODIFIED:20190418T174114Z
UID:4440-1526553000-1526562000@anthonywrobins.com
SUMMARY:TOUR: The fabulous Broadway theaters - Times Square Reborn
DESCRIPTION:Sponsored by the Scarsdale Adult School. Information and registration\, click here. \nWalk the streets of the Great White Way? as we trace the history of New York’s Broadway theater district from Oscar Hammerstein in the 1890s to Walt Disney in the 1990s. With a century of history behind them\, the 40 surviving Broadway theaters stand as stunning works of art in themselves\, as well as monuments to the lively history of American theater. Many were built as lavish headquarters for Broadway’s great impresarios\, who spared no expense in their decor. The Belasco Theater on 44th Street was designed to the specifications of the extravagant David Belasco\, the self-styled “Bishop of Broadway”? who\, among other eccentricities\, wore a clerical collar. The Little Theater\, built for aristocratic New England producer Winthrop Ames\, originally sat a tiny audience of 300; its precious Georgian style facade looks less like a typical Broadway theater than a Colonial New England manor house. Producer John Cort’s theater was designed as a recreation of the Petit Trianon in Versailles. Today these jewels sparkle among all the brash new skyscrapers that have transformed the once dingy and dangerous Times Square. The tour includes it all: theaters\, skyscrapers\, and city planning at its most controversial.
URL:https://anthonywrobins.com/event/tour-the-fabulous-broadway-theaters-times-square-reborn/
END:VEVENT
BEGIN:VEVENT
DTSTART;TZID=America/New_York:20180527T140000
DTEND;TZID=America/New_York:20180527T153000
DTSTAMP:20260423T151133
CREATED:20180320T031112Z
LAST-MODIFIED:20180320T031112Z
UID:4394-1527429600-1527435000@anthonywrobins.com
SUMMARY:TOUR: The Woolworth Building and its Lobby
DESCRIPTION:Reservations required – click here. \nTour of the Woolworth Building lobby\, closed to the public for more than a decade and now open again. The tour includes a detailed look at the building’s unmatched polychromatic terra-cotta exterior\, and an in-depth exploration of the lobby and its wealth of ornament\, including hidden corners and staircases — plus a special visit to the mezzanine level for an up-close view of its extraordinary mosaic ceiling. For more\, see the blog post.
URL:https://anthonywrobins.com/event/tour-the-woolworth-building-and-its-lobby-84/
LOCATION:Woolworth Building\, 233 Broadway\, New York
ORGANIZER;CN="Woolworth Tours":MAILTO:Info@WoolworthTours.com
END:VEVENT
END:VCALENDAR