BEGIN:VCALENDAR
VERSION:2.0
PRODID:-//Anthony W. Robins - ECPv6.2.8.1//NONSGML v1.0//EN
CALSCALE:GREGORIAN
METHOD:PUBLISH
X-ORIGINAL-URL:https://anthonywrobins.com
X-WR-CALDESC:Events for Anthony W. Robins
REFRESH-INTERVAL;VALUE=DURATION:PT1H
X-Robots-Tag:noindex
X-PUBLISHED-TTL:PT1H
BEGIN:VTIMEZONE
TZID:America/New_York
BEGIN:DAYLIGHT
TZOFFSETFROM:-0500
TZOFFSETTO:-0400
TZNAME:EDT
DTSTART:20180311T070000
END:DAYLIGHT
BEGIN:STANDARD
TZOFFSETFROM:-0400
TZOFFSETTO:-0500
TZNAME:EST
DTSTART:20181104T060000
END:STANDARD
END:VTIMEZONE
BEGIN:VEVENT
DTSTART;TZID=America/New_York:20180608T100000
DTEND;TZID=America/New_York:20180608T120000
DTSTAMP:20260423T164934
CREATED:20180320T203817Z
LAST-MODIFIED:20180320T203817Z
UID:4443-1528452000-1528459200@anthonywrobins.com
SUMMARY:TOUR: Grand Central Terminal
DESCRIPTION:Sponsored by the New York Botanical Garden\, Members Trips. (To take this tour\, you must be a member of the Botanical Garden – click here for membership details.) Reservations required: call 1-718-817-8703\, email membership@nybg.org\, or click here (scroll down to find the tour) to register on-line. \nOn February 1st\, 1913\, the brand-new Grand Central Terminal opened its doors to an admiring public. On February 1st\, 2013\, the beautifully restored Terminal – rescued from destruction by a seminal 1978 Supreme Court decision – celebrated its Centennial\, accompanied by exhibitions\, events\, and the new book: Grand Central Terminal: 100 Years of a New York Landmark. The Terminal’s creation combined engineering bravado (sinking two train yards below ground)\, technological wizardry (electrifying the trains to eliminate steam and enable their underground functioning)\, and real-estate savvy (replacing the original street-level train yard with 16 blocks of newly prime Midtown Manhattan real-estate\, whose development paid for it all) with innovative planning (interior ramps and looping tracks) and Paris-inspired Beaux-Arts design. This walking tour brings the Terminal to life – its remarkable history\, stunning architecture\, and central role in creating midtown Manhattan.
URL:https://anthonywrobins.com/event/tour-grand-central-terminal-2/
ORGANIZER;CN="New York Botanical Garden":MAILTO:membership@nybg.org
END:VEVENT
BEGIN:VEVENT
DTSTART;TZID=America/New_York:20180610T140000
DTEND;TZID=America/New_York:20180610T153000
DTSTAMP:20260423T164934
CREATED:20180320T032137Z
LAST-MODIFIED:20180320T032137Z
UID:4401-1528639200-1528644600@anthonywrobins.com
SUMMARY:TOUR: The Woolworth Building and its Lobby
DESCRIPTION:Reservations required – click here. \nTour of the Woolworth Building lobby\, closed to the public for more than a decade and now open again. The tour includes a detailed look at the building’s unmatched polychromatic terra-cotta exterior\, and an in-depth exploration of the lobby and its wealth of ornament\, including hidden corners and staircases — plus a special visit to the mezzanine level for an up-close view of its extraordinary mosaic ceiling. For more\, see the blog post.
URL:https://anthonywrobins.com/event/tour-the-woolworth-building-and-its-lobby-86/
LOCATION:Woolworth Building\, 233 Broadway\, New York
ORGANIZER;CN="Woolworth Tours":MAILTO:Info@WoolworthTours.com
END:VEVENT
BEGIN:VEVENT
DTSTART;TZID=America/New_York:20180617T140000
DTEND;TZID=America/New_York:20180617T160000
DTSTAMP:20260423T164934
CREATED:20180315T180207Z
LAST-MODIFIED:20180315T180207Z
UID:4174-1529244000-1529251200@anthonywrobins.com
SUMMARY:Tour: Art Deco on the Upper Upper West Side (that's not a typo)
DESCRIPTION:Sponsored by the Municipal Art Society (M.A.S.) Reservations required – WATCH THIS SPACE FOR A RESERVATIONS LINK. $30 ($20 MAS members). \nA meandering walk across the upper west tracts of the Upper West Side\, from West 85th to 103rd streets. We see work by such stalwart Manhattan Deco icons as Sugarman & Berger\, Boak & Paris\, and Harvey Wiley Corbett\, as well as architects less well known for their Deco productions\, including Emery Roth and Rosario Candela. Highlights include Roth’s Normandy Apartments and Corbett’s Master Apartments; the Broadway Fashion Building – four-stories of commercial space in a Moderne glass box; Joan of Arc Junior High School; Boak & Paris’s Midtown (now Metro) Theater; and one of Manhattan’s last surviving Horn & Hardart automat buildings\, with splendid Art Deco terra-cotta. If you’ve taken our tour of Art Deco on Central Park West\, and wondered what else might be out there closer to the Hudson\, this is your chance to find out
URL:https://anthonywrobins.com/event/tour-art-deco-on-the-upper-upper-west-side-thats-not-a-typo-4/
END:VEVENT
BEGIN:VEVENT
DTSTART;TZID=America/New_York:20180624T140000
DTEND;TZID=America/New_York:20180624T153000
DTSTAMP:20260423T164934
CREATED:20180320T031810Z
LAST-MODIFIED:20180320T031810Z
UID:4398-1529848800-1529854200@anthonywrobins.com
SUMMARY:TOUR: The Woolworth Building and its Lobby
DESCRIPTION:Reservations required – click here. \nTour of the Woolworth Building lobby\, closed to the public for more than a decade and now open again. The tour includes a detailed look at the building’s unmatched polychromatic terra-cotta exterior\, and an in-depth exploration of the lobby and its wealth of ornament\, including hidden corners and staircases — plus a special visit to the mezzanine level for an up-close view of its extraordinary mosaic ceiling. For more\, see the blog post.
URL:https://anthonywrobins.com/event/tour-the-woolworth-building-and-its-lobby-85/
LOCATION:Woolworth Building\, 233 Broadway\, New York
ORGANIZER;CN="Woolworth Tours":MAILTO:Info@WoolworthTours.com
END:VEVENT
END:VCALENDAR